BEGIN:VCALENDAR
VERSION:2.0
PRODID:icalendar-ruby
CALSCALE:GREGORIAN
METHOD:PUBLISH
BEGIN:VEVENT
DTSTAMP:20260421T130542Z
UID:13-435713@saintmarysavl.org
DTSTART:20260426T133000Z
DTEND:20260427T020000Z
CLASS:PUBLIC
CREATED:20260421T082914
DESCRIPTION:
LAST-MODIFIED:20260421T082914
LOCATION:
SUMMARY:Adult Forum
URL;VALUE=URI:https://www.saintmarysavl.org/events/adult-forum/2026-04-26
END:VEVENT
END:VCALENDAR
