BEGIN:VCALENDAR
VERSION:2.0
PRODID:icalendar-ruby
CALSCALE:GREGORIAN
METHOD:PUBLISH
BEGIN:VEVENT
DTSTAMP:20260421T164215Z
UID:13-435963@saintmarysavl.org
DTSTART:20260510T133000Z
DTEND:20260511T020000Z
CLASS:PUBLIC
CREATED:20260421T110446
DESCRIPTION:
LAST-MODIFIED:20260421T110446
LOCATION:
SUMMARY:Adult Forum
URL;VALUE=URI:https://www.saintmarysavl.org/events/adult-forum/2026-05-10
END:VEVENT
END:VCALENDAR
