BEGIN:VCALENDAR
VERSION:2.0
PRODID:icalendar-ruby
CALSCALE:GREGORIAN
METHOD:PUBLISH
BEGIN:VEVENT
DTSTAMP:20260421T184909Z
UID:13-436212@saintmarysavl.org
DTSTART:20260517T133000Z
DTEND:20260518T020000Z
CLASS:PUBLIC
CREATED:20260421T134459
DESCRIPTION:
LAST-MODIFIED:20260421T134459
LOCATION:
SUMMARY:Adult Forum
URL;VALUE=URI:https://www.saintmarysavl.org/events/adult-forum/2026-05-17
END:VEVENT
END:VCALENDAR
