BEGIN:VCALENDAR
VERSION:2.0
PRODID:icalendar-ruby
CALSCALE:GREGORIAN
METHOD:PUBLISH
BEGIN:VEVENT
DTSTAMP:20260421T205939Z
UID:13-436461@saintmarysavl.org
DTSTART:20260524T133000Z
DTEND:20260525T020000Z
CLASS:PUBLIC
CREATED:20260421T162041
DESCRIPTION:
LAST-MODIFIED:20260421T162041
LOCATION:
SUMMARY:Adult Forum
URL;VALUE=URI:https://www.saintmarysavl.org/events/adult-forum/2026-05-24
END:VEVENT
END:VCALENDAR
