BEGIN:VCALENDAR
VERSION:2.0
PRODID:icalendar-ruby
CALSCALE:GREGORIAN
METHOD:PUBLISH
BEGIN:VEVENT
DTSTAMP:20260422T003124Z
UID:13-436711@saintmarysavl.org
DTSTART:20260607T133000Z
DTEND:20260608T020000Z
CLASS:PUBLIC
CREATED:20260421T185923
DESCRIPTION:
LAST-MODIFIED:20260421T185923
LOCATION:
SUMMARY:Adult Forum
URL;VALUE=URI:https://www.saintmarysavl.org/events/adult-forum/2026-06-07
END:VEVENT
END:VCALENDAR
