BEGIN:VCALENDAR
VERSION:2.0
PRODID:icalendar-ruby
CALSCALE:GREGORIAN
METHOD:PUBLISH
BEGIN:VEVENT
DTSTAMP:20260422T022809Z
UID:13-436961@saintmarysavl.org
DTSTART:20260614T133000Z
DTEND:20260615T020000Z
CLASS:PUBLIC
CREATED:20260421T213741
DESCRIPTION:
LAST-MODIFIED:20260421T213741
LOCATION:
SUMMARY:Adult Forum
URL;VALUE=URI:https://www.saintmarysavl.org/events/adult-forum/2026-06-14
END:VEVENT
END:VCALENDAR
