BEGIN:VCALENDAR
VERSION:2.0
PRODID:icalendar-ruby
CALSCALE:GREGORIAN
METHOD:PUBLISH
BEGIN:VEVENT
DTSTAMP:20260422T115153Z
UID:13-436966@saintmarysavl.org
DTSTART:20260719T133000Z
DTEND:20260720T020000Z
CLASS:PUBLIC
CREATED:20260421T213741
DESCRIPTION:
LAST-MODIFIED:20260421T213741
LOCATION:
SUMMARY:Adult Forum
URL;VALUE=URI:https://www.saintmarysavl.org/events/adult-forum/2026-07-19
END:VEVENT
END:VCALENDAR
