BEGIN:VCALENDAR
VERSION:2.0
PRODID:icalendar-ruby
CALSCALE:GREGORIAN
METHOD:PUBLISH
BEGIN:VEVENT
DTSTAMP:20260422T233003Z
UID:13-438449@saintmarysavl.org
DTSTART:20260830T133000Z
DTEND:20260831T020000Z
CLASS:PUBLIC
CREATED:20260422T173131
DESCRIPTION:
LAST-MODIFIED:20260422T173131
LOCATION:
SUMMARY:Adult Forum
URL;VALUE=URI:https://www.saintmarysavl.org/events/adult-forum/2026-08-30
END:VEVENT
END:VCALENDAR
