BEGIN:VCALENDAR
VERSION:2.0
PRODID:icalendar-ruby
CALSCALE:GREGORIAN
METHOD:PUBLISH
BEGIN:VEVENT
DTSTAMP:20260423T012159Z
UID:13-438776@saintmarysavl.org
DTSTART:20260906T133000Z
DTEND:20260907T020000Z
CLASS:PUBLIC
CREATED:20260422T202255
DESCRIPTION:
LAST-MODIFIED:20260422T202255
LOCATION:
SUMMARY:Adult Forum
URL;VALUE=URI:https://www.saintmarysavl.org/events/adult-forum/2026-09-06
END:VEVENT
END:VCALENDAR
