BEGIN:VCALENDAR
VERSION:2.0
PRODID:icalendar-ruby
CALSCALE:GREGORIAN
METHOD:PUBLISH
BEGIN:VEVENT
DTSTAMP:20260423T030536Z
UID:13-438777@saintmarysavl.org
DTSTART:20260913T133000Z
DTEND:20260914T020000Z
CLASS:PUBLIC
CREATED:20260422T202255
DESCRIPTION:
LAST-MODIFIED:20260422T202255
LOCATION:
SUMMARY:Adult Forum
URL;VALUE=URI:https://www.saintmarysavl.org/events/adult-forum/2026-09-13
END:VEVENT
END:VCALENDAR
