BEGIN:VCALENDAR
VERSION:2.0
PRODID:icalendar-ruby
CALSCALE:GREGORIAN
METHOD:PUBLISH
BEGIN:VEVENT
DTSTAMP:20260423T071133Z
UID:13-439105@saintmarysavl.org
DTSTART:20260927T133000Z
DTEND:20260928T020000Z
CLASS:PUBLIC
CREATED:20260422T231725
DESCRIPTION:
LAST-MODIFIED:20260422T231725
LOCATION:
SUMMARY:Adult Forum
URL;VALUE=URI:https://www.saintmarysavl.org/events/adult-forum/2026-09-27
END:VEVENT
END:VCALENDAR
