BEGIN:VCALENDAR
VERSION:2.0
PRODID:icalendar-ruby
CALSCALE:GREGORIAN
METHOD:PUBLISH
BEGIN:VEVENT
DTSTAMP:20260425T103832Z
UID:13-446079@saintmarysavl.org
DTSTART:20261025T133000Z
DTEND:20261026T020000Z
CLASS:PUBLIC
CREATED:20260424T225102
DESCRIPTION:
LAST-MODIFIED:20260424T225102
LOCATION:
SUMMARY:Adult Forum
URL;VALUE=URI:https://www.saintmarysavl.org/events/adult-forum/2026-10-25
END:VEVENT
END:VCALENDAR
