BEGIN:VCALENDAR
VERSION:2.0
PRODID:icalendar-ruby
CALSCALE:GREGORIAN
METHOD:PUBLISH
BEGIN:VEVENT
DTSTAMP:20260425T120722Z
UID:13-446080@saintmarysavl.org
DTSTART:20261101T143000Z
DTEND:20261102T030000Z
CLASS:PUBLIC
CREATED:20260424T225102
DESCRIPTION:
LAST-MODIFIED:20260424T225102
LOCATION:
SUMMARY:Adult Forum
URL;VALUE=URI:https://www.saintmarysavl.org/events/adult-forum/2026-11-01
END:VEVENT
END:VCALENDAR
