BEGIN:VCALENDAR
VERSION:2.0
PRODID:icalendar-ruby
CALSCALE:GREGORIAN
METHOD:PUBLISH
BEGIN:VEVENT
DTSTAMP:20260424T144059Z
UID:27-440566@saintmarysavl.org
DTSTART:20260529T210000Z
DTEND:20260530T000000Z
CLASS:PUBLIC
CREATED:20260423T154645
DESCRIPTION:
LAST-MODIFIED:20260423T154645
LOCATION:
SUMMARY:Community Supper Group
URL;VALUE=URI:https://www.saintmarysavl.org/events/community-supper-group/2
 026-05-29
END:VEVENT
END:VCALENDAR
