BEGIN:VCALENDAR
VERSION:2.0
PRODID:icalendar-ruby
CALSCALE:GREGORIAN
METHOD:PUBLISH
BEGIN:VEVENT
DTSTAMP:20260425T002757Z
UID:27-440572@saintmarysavl.org
DTSTART:20261127T220000Z
DTEND:20261128T010000Z
CLASS:PUBLIC
CREATED:20260423T154645
DESCRIPTION:
LAST-MODIFIED:20260423T154645
LOCATION:
SUMMARY:Community Supper Group
URL;VALUE=URI:https://www.saintmarysavl.org/events/community-supper-group/2
 026-11-27
END:VEVENT
END:VCALENDAR
