BEGIN:VCALENDAR
VERSION:2.0
PRODID:icalendar-ruby
CALSCALE:GREGORIAN
METHOD:PUBLISH
BEGIN:VEVENT
DTSTAMP:20260425T021916Z
UID:27-440573@saintmarysavl.org
DTSTART:20261225T220000Z
DTEND:20261226T010000Z
CLASS:PUBLIC
CREATED:20260423T154645
DESCRIPTION:
LAST-MODIFIED:20260423T154645
LOCATION:
SUMMARY:Community Supper Group
URL;VALUE=URI:https://www.saintmarysavl.org/events/community-supper-group/2
 026-12-25
END:VEVENT
END:VCALENDAR
