BEGIN:VCALENDAR
VERSION:2.0
PRODID:icalendar-ruby
CALSCALE:GREGORIAN
METHOD:PUBLISH
BEGIN:VEVENT
DTSTAMP:20260424T112834Z
UID:32-442787@saintmarysavl.org
DTSTART:20260424T120000Z
DTEND:20260424T130000Z
CLASS:PUBLIC
CREATED:20260423T231917
DESCRIPTION:
LAST-MODIFIED:20260423T231917
LOCATION:
SUMMARY:Contemplative Prayer Group
URL;VALUE=URI:https://www.saintmarysavl.org/events/contemplative-prayer-gro
 up--32/2026-04-24
END:VEVENT
END:VCALENDAR
