BEGIN:VCALENDAR
VERSION:2.0
PRODID:icalendar-ruby
CALSCALE:GREGORIAN
METHOD:PUBLISH
BEGIN:VEVENT
DTSTAMP:20260424T131059Z
UID:32-443400@saintmarysavl.org
DTSTART:20260501T120000Z
DTEND:20260501T130000Z
CLASS:PUBLIC
CREATED:20260424T084717
DESCRIPTION:
LAST-MODIFIED:20260424T084717
LOCATION:
SUMMARY:Contemplative Prayer Group
URL;VALUE=URI:https://www.saintmarysavl.org/events/contemplative-prayer-gro
 up--32/2026-05-01
END:VEVENT
END:VCALENDAR
