BEGIN:VCALENDAR
VERSION:2.0
PRODID:icalendar-ruby
CALSCALE:GREGORIAN
METHOD:PUBLISH
BEGIN:VEVENT
DTSTAMP:20260424T164124Z
UID:32-444014@saintmarysavl.org
DTSTART:20260515T120000Z
DTEND:20260515T130000Z
CLASS:PUBLIC
CREATED:20260424T114000
DESCRIPTION:
LAST-MODIFIED:20260424T114000
LOCATION:
SUMMARY:Contemplative Prayer Group
URL;VALUE=URI:https://www.saintmarysavl.org/events/contemplative-prayer-gro
 up--32/2026-05-15
END:VEVENT
END:VCALENDAR
