BEGIN:VCALENDAR
VERSION:2.0
PRODID:icalendar-ruby
CALSCALE:GREGORIAN
METHOD:PUBLISH
BEGIN:VEVENT
DTSTAMP:20260424T230751Z
UID:32-445244@saintmarysavl.org
DTSTART:20260612T120000Z
DTEND:20260612T130000Z
CLASS:PUBLIC
CREATED:20260424T171324
DESCRIPTION:
LAST-MODIFIED:20260424T171324
LOCATION:
SUMMARY:Contemplative Prayer Group
URL;VALUE=URI:https://www.saintmarysavl.org/events/contemplative-prayer-gro
 up--32/2026-06-12
END:VEVENT
END:VCALENDAR
