BEGIN:VCALENDAR
VERSION:2.0
PRODID:icalendar-ruby
CALSCALE:GREGORIAN
METHOD:PUBLISH
BEGIN:VEVENT
DTSTAMP:20260425T004111Z
UID:32-445858@saintmarysavl.org
DTSTART:20260619T120000Z
DTEND:20260619T130000Z
CLASS:PUBLIC
CREATED:20260424T200110
DESCRIPTION:
LAST-MODIFIED:20260424T200110
LOCATION:
SUMMARY:Contemplative Prayer Group
URL;VALUE=URI:https://www.saintmarysavl.org/events/contemplative-prayer-gro
 up--32/2026-06-19
END:VEVENT
END:VCALENDAR
