BEGIN:VCALENDAR
VERSION:2.0
PRODID:icalendar-ruby
CALSCALE:GREGORIAN
METHOD:PUBLISH
BEGIN:VEVENT
DTSTAMP:20260425T110235Z
UID:32-446478@saintmarysavl.org
DTSTART:20260731T120000Z
DTEND:20260731T130000Z
CLASS:PUBLIC
CREATED:20260424T225102
DESCRIPTION:
LAST-MODIFIED:20260424T225102
LOCATION:
SUMMARY:Contemplative Prayer Group
URL;VALUE=URI:https://www.saintmarysavl.org/events/contemplative-prayer-gro
 up--32/2026-07-31
END:VEVENT
END:VCALENDAR
