BEGIN:VCALENDAR
VERSION:2.0
PRODID:icalendar-ruby
CALSCALE:GREGORIAN
METHOD:PUBLISH
BEGIN:VEVENT
DTSTAMP:20260425T143122Z
UID:32-447094@saintmarysavl.org
DTSTART:20260814T120000Z
DTEND:20260814T130000Z
CLASS:PUBLIC
CREATED:20260425T083427
DESCRIPTION:
LAST-MODIFIED:20260425T083427
LOCATION:
SUMMARY:Contemplative Prayer Group
URL;VALUE=URI:https://www.saintmarysavl.org/events/contemplative-prayer-gro
 up--32/2026-08-14
END:VEVENT
END:VCALENDAR
