BEGIN:VCALENDAR
VERSION:2.0
PRODID:icalendar-ruby
CALSCALE:GREGORIAN
METHOD:PUBLISH
BEGIN:VEVENT
DTSTAMP:20260425T160842Z
UID:32-447709@saintmarysavl.org
DTSTART:20260821T120000Z
DTEND:20260821T130000Z
CLASS:PUBLIC
CREATED:20260425T111521
DESCRIPTION:
LAST-MODIFIED:20260425T111521
LOCATION:
SUMMARY:Contemplative Prayer Group
URL;VALUE=URI:https://www.saintmarysavl.org/events/contemplative-prayer-gro
 up--32/2026-08-21
END:VEVENT
END:VCALENDAR
