BEGIN:VCALENDAR
VERSION:2.0
PRODID:icalendar-ruby
CALSCALE:GREGORIAN
METHOD:PUBLISH
BEGIN:VEVENT
DTSTAMP:20260426T002226Z
UID:32-449556@saintmarysavl.org
DTSTART:20260925T120000Z
DTEND:20260925T130000Z
CLASS:PUBLIC
CREATED:20260425T191955
DESCRIPTION:
LAST-MODIFIED:20260425T191955
LOCATION:
SUMMARY:Contemplative Prayer Group
URL;VALUE=URI:https://www.saintmarysavl.org/events/contemplative-prayer-gro
 up--32/2026-09-25
END:VEVENT
END:VCALENDAR
