BEGIN:VCALENDAR
VERSION:2.0
PRODID:icalendar-ruby
CALSCALE:GREGORIAN
METHOD:PUBLISH
BEGIN:VEVENT
DTSTAMP:20260426T041150Z
UID:32-450172@saintmarysavl.org
DTSTART:20261009T120000Z
DTEND:20261009T130000Z
CLASS:PUBLIC
CREATED:20260425T220104
DESCRIPTION:
LAST-MODIFIED:20260425T220104
LOCATION:
SUMMARY:Contemplative Prayer Group
URL;VALUE=URI:https://www.saintmarysavl.org/events/contemplative-prayer-gro
 up--32/2026-10-09
END:VEVENT
END:VCALENDAR
