BEGIN:VCALENDAR
VERSION:2.0
PRODID:icalendar-ruby
CALSCALE:GREGORIAN
METHOD:PUBLISH
BEGIN:VEVENT
DTSTAMP:20260421T125841Z
UID:8-435629@saintmarysavl.org
DTSTART:20260421T213000Z
DTEND:20260421T230000Z
CLASS:PUBLIC
CREATED:20260421T082914
DESCRIPTION:
LAST-MODIFIED:20260421T082914
LOCATION:St. Mary's Episcopal Church
SUMMARY:Holy Communion Rite I
URL;VALUE=URI:https://www.saintmarysavl.org/events/holy-communion-rite-i/20
 26-04-21
END:VEVENT
END:VCALENDAR
