BEGIN:VCALENDAR
VERSION:2.0
PRODID:icalendar-ruby
CALSCALE:GREGORIAN
METHOD:PUBLISH
BEGIN:VEVENT
DTSTAMP:20260421T145728Z
UID:8-435630@saintmarysavl.org
DTSTART:20260428T213000Z
DTEND:20260428T230000Z
CLASS:PUBLIC
CREATED:20260421T082914
DESCRIPTION:
LAST-MODIFIED:20260421T082914
LOCATION:St. Mary's Episcopal Church
SUMMARY:Holy Communion Rite I
URL;VALUE=URI:https://www.saintmarysavl.org/events/holy-communion-rite-i/20
 26-04-28
END:VEVENT
END:VCALENDAR
