BEGIN:VCALENDAR
VERSION:2.0
PRODID:icalendar-ruby
CALSCALE:GREGORIAN
METHOD:PUBLISH
BEGIN:VEVENT
DTSTAMP:20260421T165102Z
UID:8-435879@saintmarysavl.org
DTSTART:20260505T213000Z
DTEND:20260505T230000Z
CLASS:PUBLIC
CREATED:20260421T110446
DESCRIPTION:
LAST-MODIFIED:20260421T110446
LOCATION:St. Mary's Episcopal Church
SUMMARY:Holy Communion Rite I
URL;VALUE=URI:https://www.saintmarysavl.org/events/holy-communion-rite-i/20
 26-05-05
END:VEVENT
END:VCALENDAR
