BEGIN:VCALENDAR
VERSION:2.0
PRODID:icalendar-ruby
CALSCALE:GREGORIAN
METHOD:PUBLISH
BEGIN:VEVENT
DTSTAMP:20260421T222020Z
UID:8-436378@saintmarysavl.org
DTSTART:20260526T213000Z
DTEND:20260526T230000Z
CLASS:PUBLIC
CREATED:20260421T162041
DESCRIPTION:
LAST-MODIFIED:20260421T162041
LOCATION:St. Mary's Episcopal Church
SUMMARY:Holy Communion Rite I
URL;VALUE=URI:https://www.saintmarysavl.org/events/holy-communion-rite-i/20
 26-05-26
END:VEVENT
END:VCALENDAR
