BEGIN:VCALENDAR
VERSION:2.0
PRODID:icalendar-ruby
CALSCALE:GREGORIAN
METHOD:PUBLISH
BEGIN:VEVENT
DTSTAMP:20260421T234808Z
UID:8-436627@saintmarysavl.org
DTSTART:20260602T213000Z
DTEND:20260602T230000Z
CLASS:PUBLIC
CREATED:20260421T185922
DESCRIPTION:
LAST-MODIFIED:20260421T185922
LOCATION:St. Mary's Episcopal Church
SUMMARY:Holy Communion Rite I
URL;VALUE=URI:https://www.saintmarysavl.org/events/holy-communion-rite-i/20
 26-06-02
END:VEVENT
END:VCALENDAR
