BEGIN:VCALENDAR
VERSION:2.0
PRODID:icalendar-ruby
CALSCALE:GREGORIAN
METHOD:PUBLISH
BEGIN:VEVENT
DTSTAMP:20260422T013044Z
UID:8-436628@saintmarysavl.org
DTSTART:20260609T213000Z
DTEND:20260609T230000Z
CLASS:PUBLIC
CREATED:20260421T185922
DESCRIPTION:
LAST-MODIFIED:20260421T185922
LOCATION:St. Mary's Episcopal Church
SUMMARY:Holy Communion Rite I
URL;VALUE=URI:https://www.saintmarysavl.org/events/holy-communion-rite-i/20
 26-06-09
END:VEVENT
END:VCALENDAR
