BEGIN:VCALENDAR
VERSION:2.0
PRODID:icalendar-ruby
CALSCALE:GREGORIAN
METHOD:PUBLISH
BEGIN:VEVENT
DTSTAMP:20260422T094241Z
UID:8-436880@saintmarysavl.org
DTSTART:20260707T213000Z
DTEND:20260707T230000Z
CLASS:PUBLIC
CREATED:20260421T213740
DESCRIPTION:
LAST-MODIFIED:20260421T213740
LOCATION:St. Mary's Episcopal Church
SUMMARY:Holy Communion Rite I
URL;VALUE=URI:https://www.saintmarysavl.org/events/holy-communion-rite-i/20
 26-07-07
END:VEVENT
END:VCALENDAR
