BEGIN:VCALENDAR
VERSION:2.0
PRODID:icalendar-ruby
CALSCALE:GREGORIAN
METHOD:PUBLISH
BEGIN:VEVENT
DTSTAMP:20260422T131947Z
UID:8-437131@saintmarysavl.org
DTSTART:20260721T213000Z
DTEND:20260721T230000Z
CLASS:PUBLIC
CREATED:20260422T084615
DESCRIPTION:
LAST-MODIFIED:20260422T084615
LOCATION:St. Mary's Episcopal Church
SUMMARY:Holy Communion Rite I
URL;VALUE=URI:https://www.saintmarysavl.org/events/holy-communion-rite-i/20
 26-07-21
END:VEVENT
END:VCALENDAR
