BEGIN:VCALENDAR
VERSION:2.0
PRODID:icalendar-ruby
CALSCALE:GREGORIAN
METHOD:PUBLISH
BEGIN:VEVENT
DTSTAMP:20260422T165608Z
UID:8-437733@saintmarysavl.org
DTSTART:20260804T213000Z
DTEND:20260804T223000Z
CLASS:PUBLIC
CREATED:20260422T121744
DESCRIPTION:
LAST-MODIFIED:20260422T121744
LOCATION:St. Mary's Episcopal Church
SUMMARY:Holy Communion Rite I
URL;VALUE=URI:https://www.saintmarysavl.org/events/holy-communion-rite-i/20
 26-08-04
END:VEVENT
END:VCALENDAR
