BEGIN:VCALENDAR
VERSION:2.0
PRODID:icalendar-ruby
CALSCALE:GREGORIAN
METHOD:PUBLISH
BEGIN:VEVENT
DTSTAMP:20260422T201714Z
UID:8-438153@saintmarysavl.org
DTSTART:20260818T213000Z
DTEND:20260818T223000Z
CLASS:PUBLIC
CREATED:20260422T151121
DESCRIPTION:
LAST-MODIFIED:20260422T151121
LOCATION:St. Mary's Episcopal Church
SUMMARY:Holy Communion Rite I
URL;VALUE=URI:https://www.saintmarysavl.org/events/holy-communion-rite-i/20
 26-08-18
END:VEVENT
END:VCALENDAR
