BEGIN:VCALENDAR
VERSION:2.0
PRODID:icalendar-ruby
CALSCALE:GREGORIAN
METHOD:PUBLISH
BEGIN:VEVENT
DTSTAMP:20260422T221535Z
UID:8-438419@saintmarysavl.org
DTSTART:20260825T213000Z
DTEND:20260825T223000Z
CLASS:PUBLIC
CREATED:20260422T173131
DESCRIPTION:
LAST-MODIFIED:20260422T173131
LOCATION:St. Mary's Episcopal Church
SUMMARY:Holy Communion Rite I
URL;VALUE=URI:https://www.saintmarysavl.org/events/holy-communion-rite-i/20
 26-08-25
END:VEVENT
END:VCALENDAR
