BEGIN:VCALENDAR
VERSION:2.0
PRODID:icalendar-ruby
CALSCALE:GREGORIAN
METHOD:PUBLISH
BEGIN:VEVENT
DTSTAMP:20260423T074221Z
UID:8-439076@saintmarysavl.org
DTSTART:20260929T213000Z
DTEND:20260929T223000Z
CLASS:PUBLIC
CREATED:20260422T231725
DESCRIPTION:
LAST-MODIFIED:20260422T231725
LOCATION:St. Mary's Episcopal Church
SUMMARY:Holy Communion Rite I
URL;VALUE=URI:https://www.saintmarysavl.org/events/holy-communion-rite-i/20
 26-09-29
END:VEVENT
END:VCALENDAR
