BEGIN:VCALENDAR
VERSION:2.0
PRODID:icalendar-ruby
CALSCALE:GREGORIAN
METHOD:PUBLISH
BEGIN:VEVENT
DTSTAMP:20260423T095314Z
UID:8-439077@saintmarysavl.org
DTSTART:20261006T213000Z
DTEND:20261006T223000Z
CLASS:PUBLIC
CREATED:20260422T231725
DESCRIPTION:
LAST-MODIFIED:20260422T231725
LOCATION:St. Mary's Episcopal Church
SUMMARY:Holy Communion Rite I
URL;VALUE=URI:https://www.saintmarysavl.org/events/holy-communion-rite-i/20
 26-10-06
END:VEVENT
END:VCALENDAR
