BEGIN:VCALENDAR
VERSION:2.0
PRODID:icalendar-ruby
CALSCALE:GREGORIAN
METHOD:PUBLISH
BEGIN:VEVENT
DTSTAMP:20260423T145432Z
UID:8-439406@saintmarysavl.org
DTSTART:20261027T213000Z
DTEND:20261027T223000Z
CLASS:PUBLIC
CREATED:20260423T084741
DESCRIPTION:
LAST-MODIFIED:20260423T084741
LOCATION:St. Mary's Episcopal Church
SUMMARY:Holy Communion Rite I
URL;VALUE=URI:https://www.saintmarysavl.org/events/holy-communion-rite-i/20
 26-10-27
END:VEVENT
END:VCALENDAR
