BEGIN:VCALENDAR
VERSION:2.0
PRODID:icalendar-ruby
CALSCALE:GREGORIAN
METHOD:PUBLISH
BEGIN:VEVENT
DTSTAMP:20260423T163311Z
UID:8-439734@saintmarysavl.org
DTSTART:20261103T223000Z
DTEND:20261103T233000Z
CLASS:PUBLIC
CREATED:20260423T114003
DESCRIPTION:
LAST-MODIFIED:20260423T114003
LOCATION:St. Mary's Episcopal Church
SUMMARY:Holy Communion Rite I
URL;VALUE=URI:https://www.saintmarysavl.org/events/holy-communion-rite-i/20
 26-11-03
END:VEVENT
END:VCALENDAR
