BEGIN:VCALENDAR
VERSION:2.0
PRODID:icalendar-ruby
CALSCALE:GREGORIAN
METHOD:PUBLISH
BEGIN:VEVENT
DTSTAMP:20260421T145547Z
UID:7-435576@saintmarysavl.org
DTSTART:20260503T150000Z
DTEND:20260503T163000Z
CLASS:PUBLIC
CREATED:20260421T082914
DESCRIPTION:
LAST-MODIFIED:20260421T082914
LOCATION:St. Mary's Episcopal Church
SUMMARY:Holy Communion Rite II
URL;VALUE=URI:https://www.saintmarysavl.org/events/holy-communion-rite-ii--
 7/2026-05-03
END:VEVENT
END:VCALENDAR
