BEGIN:VCALENDAR
VERSION:2.0
PRODID:icalendar-ruby
CALSCALE:GREGORIAN
METHOD:PUBLISH
BEGIN:VEVENT
DTSTAMP:20260421T164215Z
UID:7-435825@saintmarysavl.org
DTSTART:20260510T150000Z
DTEND:20260510T163000Z
CLASS:PUBLIC
CREATED:20260421T110446
DESCRIPTION:
LAST-MODIFIED:20260421T110446
LOCATION:St. Mary's Episcopal Church
SUMMARY:Holy Communion Rite II
URL;VALUE=URI:https://www.saintmarysavl.org/events/holy-communion-rite-ii--
 7/2026-05-10
END:VEVENT
END:VCALENDAR
