BEGIN:VCALENDAR
VERSION:2.0
PRODID:icalendar-ruby
CALSCALE:GREGORIAN
METHOD:PUBLISH
BEGIN:VEVENT
DTSTAMP:20260421T221337Z
UID:7-436324@saintmarysavl.org
DTSTART:20260531T150000Z
DTEND:20260531T163000Z
CLASS:PUBLIC
CREATED:20260421T162041
DESCRIPTION:
LAST-MODIFIED:20260421T162041
LOCATION:St. Mary's Episcopal Church
SUMMARY:Holy Communion Rite II
URL;VALUE=URI:https://www.saintmarysavl.org/events/holy-communion-rite-ii--
 7/2026-05-31
END:VEVENT
END:VCALENDAR
