BEGIN:VCALENDAR
VERSION:2.0
PRODID:icalendar-ruby
CALSCALE:GREGORIAN
METHOD:PUBLISH
BEGIN:VEVENT
DTSTAMP:20260422T001844Z
UID:7-436573@saintmarysavl.org
DTSTART:20260607T150000Z
DTEND:20260607T163000Z
CLASS:PUBLIC
CREATED:20260421T185922
DESCRIPTION:
LAST-MODIFIED:20260421T185922
LOCATION:St. Mary's Episcopal Church
SUMMARY:Holy Communion Rite II
URL;VALUE=URI:https://www.saintmarysavl.org/events/holy-communion-rite-ii--
 7/2026-06-07
END:VEVENT
END:VCALENDAR
