BEGIN:VCALENDAR
VERSION:2.0
PRODID:icalendar-ruby
CALSCALE:GREGORIAN
METHOD:PUBLISH
BEGIN:VEVENT
DTSTAMP:20260422T021932Z
UID:7-436822@saintmarysavl.org
DTSTART:20260614T150000Z
DTEND:20260614T163000Z
CLASS:PUBLIC
CREATED:20260421T213740
DESCRIPTION:
LAST-MODIFIED:20260421T213740
LOCATION:St. Mary's Episcopal Church
SUMMARY:Holy Communion Rite II
URL;VALUE=URI:https://www.saintmarysavl.org/events/holy-communion-rite-ii--
 7/2026-06-14
END:VEVENT
END:VCALENDAR
