BEGIN:VCALENDAR
VERSION:2.0
PRODID:icalendar-ruby
CALSCALE:GREGORIAN
METHOD:PUBLISH
BEGIN:VEVENT
DTSTAMP:20260424T081653Z
UID:7-442326@saintmarysavl.org
DTSTART:20260628T150000Z
DTEND:20260628T163000Z
CLASS:PUBLIC
CREATED:20260423T231916
DESCRIPTION:
LAST-MODIFIED:20260423T231916
LOCATION:St. Mary's Episcopal Church
SUMMARY:Holy Eucharist\, Rite II
URL;VALUE=URI:https://www.saintmarysavl.org/events/holy-eucharist-rite-ii/2
 026-06-28
END:VEVENT
END:VCALENDAR
