BEGIN:VCALENDAR
VERSION:2.0
PRODID:icalendar-ruby
CALSCALE:GREGORIAN
METHOD:PUBLISH
BEGIN:VEVENT
DTSTAMP:20260421T164228Z
UID:6-435770@saintmarysavl.org
DTSTART:20260510T120000Z
DTEND:20260510T133000Z
CLASS:PUBLIC
CREATED:20260421T110446
DESCRIPTION:
LAST-MODIFIED:20260421T110446
LOCATION:St. Mary's Episcopal Church
SUMMARY:Holy Communion Rite II
URL;VALUE=URI:https://www.saintmarysavl.org/events/holy-communion-rite-ii/2
 026-05-10
END:VEVENT
END:VCALENDAR
