BEGIN:VCALENDAR
VERSION:2.0
PRODID:icalendar-ruby
CALSCALE:GREGORIAN
METHOD:PUBLISH
BEGIN:VEVENT
DTSTAMP:20260421T201752Z
UID:6-436020@saintmarysavl.org
DTSTART:20260524T120000Z
DTEND:20260524T133000Z
CLASS:PUBLIC
CREATED:20260421T134459
DESCRIPTION:
LAST-MODIFIED:20260421T134459
LOCATION:St. Mary's Episcopal Church
SUMMARY:Holy Communion Rite II
URL;VALUE=URI:https://www.saintmarysavl.org/events/holy-communion-rite-ii/2
 026-05-24
END:VEVENT
END:VCALENDAR
