BEGIN:VCALENDAR
VERSION:2.0
PRODID:icalendar-ruby
CALSCALE:GREGORIAN
METHOD:PUBLISH
BEGIN:VEVENT
DTSTAMP:20260421T214739Z
UID:6-436269@saintmarysavl.org
DTSTART:20260531T120000Z
DTEND:20260531T133000Z
CLASS:PUBLIC
CREATED:20260421T162040
DESCRIPTION:
LAST-MODIFIED:20260421T162040
LOCATION:St. Mary's Episcopal Church
SUMMARY:Holy Communion Rite II
URL;VALUE=URI:https://www.saintmarysavl.org/events/holy-communion-rite-ii/2
 026-05-31
END:VEVENT
END:VCALENDAR
